BEGIN:VCALENDAR
VERSION:2.0
PRODID:-//Benjamin Rose - ECPv6.15.20//NONSGML v1.0//EN
CALSCALE:GREGORIAN
METHOD:PUBLISH
X-WR-CALNAME:Benjamin Rose
X-ORIGINAL-URL:https://www.benrose.org
X-WR-CALDESC:Events for Benjamin Rose
REFRESH-INTERVAL;VALUE=DURATION:PT1H
X-Robots-Tag:noindex
X-PUBLISHED-TTL:PT1H
BEGIN:VTIMEZONE
TZID:America/New_York
BEGIN:DAYLIGHT
TZOFFSETFROM:-0500
TZOFFSETTO:-0400
TZNAME:EDT
DTSTART:20240310T070000
END:DAYLIGHT
BEGIN:STANDARD
TZOFFSETFROM:-0400
TZOFFSETTO:-0500
TZNAME:EST
DTSTART:20241103T060000
END:STANDARD
BEGIN:DAYLIGHT
TZOFFSETFROM:-0500
TZOFFSETTO:-0400
TZNAME:EDT
DTSTART:20250309T070000
END:DAYLIGHT
BEGIN:STANDARD
TZOFFSETFROM:-0400
TZOFFSETTO:-0500
TZNAME:EST
DTSTART:20251102T060000
END:STANDARD
BEGIN:DAYLIGHT
TZOFFSETFROM:-0500
TZOFFSETTO:-0400
TZNAME:EDT
DTSTART:20260308T070000
END:DAYLIGHT
BEGIN:STANDARD
TZOFFSETFROM:-0400
TZOFFSETTO:-0500
TZNAME:EST
DTSTART:20261101T060000
END:STANDARD
END:VTIMEZONE
BEGIN:VEVENT
DTSTART;TZID=America/New_York:20250805T130000
DTEND;TZID=America/New_York:20250805T143000
DTSTAMP:20260421T110919
CREATED:20250718T172618Z
LAST-MODIFIED:20250729T121854Z
UID:10011811-1754398800-1754404200@www.benrose.org
SUMMARY:Aging in Place: Know Your Housing Options
DESCRIPTION:REGISTER\n\n\n\n\n\n\n\nOur FREE Aging in Place: Know Your Housing Options course is designed to assess our homes for safety\, accessibility\, and affordability; explore ways to use home equity to stay in our homes; and discover housing options.  \n\n\n\nThis course is a three-part series. This registration is for the following days\, from 1:00-2:30 PM: \n\n\n\n\nAugust 5 (Tues)\n\n\n\nAugust 6 (Weds)\n\n\n\nAugust 7 (Thurs)\n\n\n\n\n	\n		\n\nSession One:\n\n\n\nAssessing Your Home – Is it Safe? Is it Accessible? Is it Affordable?\n\n\n\nAugust 5 \n\n\n\n\nLearn what it means to age in place\n\n\n\nAssess your current home based on your current needs\n\n\n\nCreate a continuum of care plan based on health\, supports\, and both current and future needs\n\n\n\nReview safety and accessibility in the home through safety checklists\n\n\n\nLearn about fall prevention\n\n\n\nExplore home affordability and the importance of budgeting\n\n\n	\n	\n\n\n	\n		\n\nSession two:\n\n\n\nUsing Your Home Equity to Keep Your Home\n\n\n\nAugust 6 \n\n\n\n\nLearn the definition of home equity and why it matters\n\n\n\nExplore different ways to use home equity to age in place:\n\nSingle purpose loans and grants\n\n\n\nHome equity loans\n\n\n\nHome equity line of credit\n\n\n\nReverse mortgages\n\n\n\n\n	\n	\n\n\n	\n		\n\nSession three:\n\n\n\nExploring Housing Options for Older Adults\n\n\n\nAugust 7 \n\n\n\n\nLearn about activities of daily living (ADLs)\n\n\n\nExplore different housing options for older adults:\n\nSenior Apartments\n\n\n\nIndependent Living\n\n\n\nAssisted Living\n\n\n\nSkilled Nursing & Rehab Facilities\n\n\n\nCo-Housing & Shared Housing\n\n\n\n\n\nLearn about potential ways to pay for housing:\n\nVeteran benefits\n\n\n\nLong-tern care insurance\n\n\n\nMedicaid Waiver
URL:https://www.benrose.org/event/aging-in-place-know-your-housing-options/
CATEGORIES:Events & Workshops
LOCATION:https://www.benrose.org/event/aging-in-place-know-your-housing-options/
END:VEVENT
END:VCALENDAR