BEGIN:VCALENDAR
VERSION:2.0
PRODID:-//Benjamin Rose - ECPv6.15.20//NONSGML v1.0//EN
CALSCALE:GREGORIAN
METHOD:PUBLISH
X-ORIGINAL-URL:https://www.benrose.org
X-WR-CALDESC:Events for Benjamin Rose
REFRESH-INTERVAL;VALUE=DURATION:PT1H
X-Robots-Tag:noindex
X-PUBLISHED-TTL:PT1H
BEGIN:VTIMEZONE
TZID:America/New_York
BEGIN:DAYLIGHT
TZOFFSETFROM:-0500
TZOFFSETTO:-0400
TZNAME:EDT
DTSTART:20240310T070000
END:DAYLIGHT
BEGIN:STANDARD
TZOFFSETFROM:-0400
TZOFFSETTO:-0500
TZNAME:EST
DTSTART:20241103T060000
END:STANDARD
BEGIN:DAYLIGHT
TZOFFSETFROM:-0500
TZOFFSETTO:-0400
TZNAME:EDT
DTSTART:20250309T070000
END:DAYLIGHT
BEGIN:STANDARD
TZOFFSETFROM:-0400
TZOFFSETTO:-0500
TZNAME:EST
DTSTART:20251102T060000
END:STANDARD
BEGIN:DAYLIGHT
TZOFFSETFROM:-0500
TZOFFSETTO:-0400
TZNAME:EDT
DTSTART:20260308T070000
END:DAYLIGHT
BEGIN:STANDARD
TZOFFSETFROM:-0400
TZOFFSETTO:-0500
TZNAME:EST
DTSTART:20261101T060000
END:STANDARD
END:VTIMEZONE
BEGIN:VEVENT
DTSTART;TZID=America/New_York:20250827T130000
DTEND;TZID=America/New_York:20250827T130000
DTSTAMP:20260423T062325
CREATED:20250805T191705Z
LAST-MODIFIED:20250805T191742Z
UID:10011814-1756299600-1756299600@www.benrose.org
SUMMARY:Everything You Need to Know About the CMS GUIDE Model and How AAAs Can Get Involved
DESCRIPTION:REGISTER\n\n\n\n\n\n\n\nJoin us for an information-filled virtual presentation specifically about features\, benefits and details of the national GUIDE rollout. This presentation\, followed by Q&A\, will include an overview of CMS’ goals in developing GUIDE\, a review of the 9 required elements of GUIDE delivery including clinical\, care navigation\, respite and other services\, participant eligibility parameters\, as well as the unique role that providers of older-adult services and healthcare organizations can play in the process.
URL:https://www.benrose.org/event/cms-guide-webinar/
CATEGORIES:Events & Workshops
LOCATION:https://www.benrose.org/event/cms-guide-webinar/
END:VEVENT
END:VCALENDAR