BEGIN:VCALENDAR
VERSION:2.0
PRODID:-//Benjamin Rose - ECPv6.15.20//NONSGML v1.0//EN
CALSCALE:GREGORIAN
METHOD:PUBLISH
X-WR-CALNAME:Benjamin Rose
X-ORIGINAL-URL:https://www.benrose.org
X-WR-CALDESC:Events for Benjamin Rose
REFRESH-INTERVAL;VALUE=DURATION:PT1H
X-Robots-Tag:noindex
X-PUBLISHED-TTL:PT1H
BEGIN:VTIMEZONE
TZID:America/New_York
BEGIN:DAYLIGHT
TZOFFSETFROM:-0500
TZOFFSETTO:-0400
TZNAME:EDT
DTSTART:20240310T070000
END:DAYLIGHT
BEGIN:STANDARD
TZOFFSETFROM:-0400
TZOFFSETTO:-0500
TZNAME:EST
DTSTART:20241103T060000
END:STANDARD
BEGIN:DAYLIGHT
TZOFFSETFROM:-0500
TZOFFSETTO:-0400
TZNAME:EDT
DTSTART:20250309T070000
END:DAYLIGHT
BEGIN:STANDARD
TZOFFSETFROM:-0400
TZOFFSETTO:-0500
TZNAME:EST
DTSTART:20251102T060000
END:STANDARD
BEGIN:DAYLIGHT
TZOFFSETFROM:-0500
TZOFFSETTO:-0400
TZNAME:EDT
DTSTART:20260308T070000
END:DAYLIGHT
BEGIN:STANDARD
TZOFFSETFROM:-0400
TZOFFSETTO:-0500
TZNAME:EST
DTSTART:20261101T060000
END:STANDARD
END:VTIMEZONE
BEGIN:VEVENT
DTSTART;TZID=America/New_York:20251216T130000
DTEND;TZID=America/New_York:20251216T143000
DTSTAMP:20260421T125125
CREATED:20251017T132556Z
LAST-MODIFIED:20251203T131316Z
UID:10011830-1765890000-1765895400@www.benrose.org
SUMMARY:Rose on the Go: Charcuterie Design
DESCRIPTION:THIS EVENT IS SOLD OUT! IF YOU’D LIKE TO BE PUT ON THE WAITING LIST\, CONTACT TIM FREY AT tfrey@benrose.org! \n\n\n\nCheese\, Please: A Guided Charcuterie Class \n\n\n\nDiscover the art of elegant entertaining in this hands-on charcuterie board workshop led by Sharcuterie By Shanell. Whether you’re hosting friends or simply treating yourself\, you’ll leave with new skills\, creative inspiration\, and a completed board to enjoy. All materials are included — just bring your curiosity and appetite!
URL:https://www.benrose.org/event/charcuterie-design/
LOCATION:Spry Senior\, 14770 Snow Rd\, Brook Park\, Ohio\, 44142\, United States
CATEGORIES:Events & Workshops
ATTACH;FMTTYPE=image/png:https://www.benrose.org/wp-content/uploads/charcuterie.png
END:VEVENT
END:VCALENDAR