BEGIN:VCALENDAR
VERSION:2.0
PRODID:-//Benjamin Rose - ECPv6.15.20//NONSGML v1.0//EN
CALSCALE:GREGORIAN
METHOD:PUBLISH
X-ORIGINAL-URL:https://www.benrose.org
X-WR-CALDESC:Events for Benjamin Rose
REFRESH-INTERVAL;VALUE=DURATION:PT1H
X-Robots-Tag:noindex
X-PUBLISHED-TTL:PT1H
BEGIN:VTIMEZONE
TZID:America/New_York
BEGIN:DAYLIGHT
TZOFFSETFROM:-0500
TZOFFSETTO:-0400
TZNAME:EDT
DTSTART:20250309T070000
END:DAYLIGHT
BEGIN:STANDARD
TZOFFSETFROM:-0400
TZOFFSETTO:-0500
TZNAME:EST
DTSTART:20251102T060000
END:STANDARD
BEGIN:DAYLIGHT
TZOFFSETFROM:-0500
TZOFFSETTO:-0400
TZNAME:EDT
DTSTART:20260308T070000
END:DAYLIGHT
BEGIN:STANDARD
TZOFFSETFROM:-0400
TZOFFSETTO:-0500
TZNAME:EST
DTSTART:20261101T060000
END:STANDARD
BEGIN:DAYLIGHT
TZOFFSETFROM:-0500
TZOFFSETTO:-0400
TZNAME:EDT
DTSTART:20270314T070000
END:DAYLIGHT
BEGIN:STANDARD
TZOFFSETFROM:-0400
TZOFFSETTO:-0500
TZNAME:EST
DTSTART:20271107T060000
END:STANDARD
END:VTIMEZONE
BEGIN:VEVENT
DTSTART;TZID=America/New_York:20260107T180000
DTEND;TZID=America/New_York:20260107T200000
DTSTAMP:20260421T124401
CREATED:20251124T174755Z
LAST-MODIFIED:20251212T132343Z
UID:10011834-1767808800-1767816000@www.benrose.org
SUMMARY:Homebuyer Education
DESCRIPTION:REGISTER\n\n\n\n\n\n\n\nAre you interested in buying a home but not sure where to start? \n\n\n\nOur FREE HUD-approved homebuyer education class can teach you the important basics of the home buying process.  We will provide you with the knowledge you’ll need to secure an affordable mortgage and buy the right house for you. \n\n\n\nThis course is a four-part series. This registration is for the following days\, from 6-8 PM: \n\n\n\n\nJanuary 7\n\n\n\nJanuary 14\n\n\n\nJanuary 21\n\n\n\nJanuary 28\n\n\n\n\nSession One: Budget & Credit\n\n\n\nJanuary 7 \n\n\n\n\nExamine your money profile\n\n\n\nLearn how to better manage your money through spending plans\, tracking income & expenses\, goal setting and building your savings\n\n\n\nExplore the importance of credit and learn tips to establish and improve your credit\n\n\n\nReview how to avoid and handle identity theft\n\n\n\n\nSession Two: Obtaining a Mortgage Loan & Your Consumer Rights\n\n\n\nJanuary 14 \n\n\n\n\nLearn how to qualify and get pre-approved for a mortgage loan\n\n\n\nReview affordability and how to determine how much money to spend on buying a home\n\n\n\nLearn your rights as a loan consumer\n\n\n\n\nSession Three: Shopping for a Home & the Importance of a Home Inspection\n\n\n\nJanuary 21 \n\n\n\n\nLearn how to shop for a home\, from finding the right neighborhood to considering which type of home is right for you\n\n\n\nExplore tips on how to work with an agent\n\n\n\nLearn about the purchase\, sale\, escrow\, and closing processes\n\n\n\nReview the professional home inspection process and why it’s so important\n\n\n\n\nSession Four: Home Insurance & Maintaining Your Home\n\n\n\nJanuary 28 \n\n\n\n\nLearn how to protect your home through insurance\, liability protection and home safety measures\n\n\n\nExplore different ways to maintain your home\n\n\n\nEmbrace your neighborhood and learn ways to explore your community\, be a good neighbor and invest in your area’s success\n\n\n\n\nTo register\, click the above button and fill out our registration form.
URL:https://www.benrose.org/event/hbe-jan2026/
CATEGORIES:Events & Workshops
LOCATION:https://www.benrose.org/event/hbe-jan2026/
END:VEVENT
END:VCALENDAR